Workbook

Sheet Results
A1: EmpID | B1: Gender | C1: Country | D1: Legal entity | E1: Education | F1: Grade | G1: CCNL classification | H1: CCNL description | I1: Job Family | J1: Performance | K1: Level of responsibility | L1: Year in Role | M1: Number of reports | N1: Grade + Job Family | O1: Country + Grade | P1: Hourly Rate (Italy - livello retributivo) | Q1: Hourly Rate (EU PTD Total Comp) | R1: Base Salary (minimo tabellare) | S1: Bonus (Italy - collective) | T1: Bonus (EUPTD incl. discretionary) | U1: Allowances (Italy - EDR, contingenza) | V1: Allowances (EU PTD) | W1: Total Compensation (Italy - livello retributivo) | X1: Total Compensation (EU PTD)
A2: 2273 | B2: Male | C2: Italy | D2: Italy-Ent 1 | E2: Masters | F2: 10 | G2: Dirigente | H2: =VLOOKUP(N2,CCNL_Mapping!A:C,3,0) -> Chief Commercial Officer / VP Sales | I2: Sales | J2: 3 | K2: 4 | L2: 3 | M2: 10 | N2: 10 - Sales | O2: Italy - 10 | P2: 99.651417 | Q2: 114.91953 | R2: 189234 | S2: 2000 | T2: 28385 | U2: 5677.2 | V2: 9462 | W2: 196911.2 | X2: 227081
A3: 2276 | B3: Male | C3: Italy | D3: Italy-Ent 1 | E3: Masters | F3: 10 | G3: Dirigente | H3: =VLOOKUP(N3,CCNL_Mapping!A:C,3,0) -> Chief Legal Officer / General Counsel / Head of Compliance & Audit | I3: Legal, Compliance & Audit | J3: 2 | K3: 4 | L3: 2 | M3: 10 | N3: 10 - Legal, Compliance & Audit | O3: Italy - 10 | P3: 89.362146 | Q3: 97.086032 | R3: 159869 | S3: 15112 | T3: 23980 | U3: 1598.6 | V3: 7993 | W3: 176579.6 | X3: 191842
A4: 3531 | B4: Male | C4: Italy | D4: Italy-Ent 1 | E4: Masters | F4: 8 | G4: Livello 1° | H4: =VLOOKUP(N4,CCNL_Mapping!A:C,3,0) -> Senior Legal Counsel / Senior Compliance & Audit Manager | I4: Legal, Compliance & Audit | J4: 3 | K4: 4 | L4: 1 | M4: 10 | N4: 8 - Legal, Compliance & Audit | O4: Italy - 8 | P4: 69.917004 | Q4: 67.44585 | R4: 111061 | S4: 21542 | T4: 16659 | U4: 5553 | V4: 5553 | W4: 138156 | X4: 133273
A5: 4236 | B5: Female | C5: Italy | D5: Italy-Ent 1 | E5: Masters | F5: 8 | G5: Livello 1° | H5: =VLOOKUP(N5,CCNL_Mapping!A:C,3,0) -> Senior Finance Manager / Senior HRBP | I5: Finance & HR | J5: 3 | K5: 2 | L5: 3 | M5: 10 | N5: 8 - Finance & HR | O5: Italy - 8 | P5: 67.700405 | Q5: 77.371964 | R5: 127406 | S5: 0 | T5: 19111 | U5: 6370 | V5: 6370 | W5: 133776 | X5: 152887
A6: 324 | B6: Male | C6: Italy | D6: Italy-Ent 1 | E6: Masters | F6: 9 | G6: Quadro (Q) | H6: =VLOOKUP(N6,CCNL_Mapping!A:C,3,0) -> Legal Director / Head of Regulatory Affairs & Audit | I6: Legal, Compliance & Audit | J6: 3 | K6: 3 | L6: 2 | M6: 0 | N6: 9 - Legal, Compliance & Audit | O6: Italy - 9 | P6: 64.812247 | Q6: 55.140688 | R6: 90798 | S6: 32731 | T6: 13620 | U6: 4540 | V6: 4540 | W6: 128069 | X6: 108958
A7: 3999 | B7: Male | C7: Italy | D7: Italy-Ent 1 | E7: Masters | F7: 9 | G7: Quadro (Q) | H7: =VLOOKUP(N7,CCNL_Mapping!A:C,3,0) -> Head of Finance / Head of HR | I7: Finance & HR | J7: 3 | K7: 4 | L7: 3 | M7: 0 | N7: 9 - Finance & HR | O7: Italy - 9 | P7: 64.630061 | Q7: 72.705972 | R7: 119723 | S7: 2000 | T7: 17958 | U7: 5986 | V7: 5986 | W7: 127709 | X7: 143667
A8: 3108 | B8: Male | C8: Italy | D8: Italy-Ent 1 | E8: Masters | F8: 9 | G8: Quadro (Q) | H8: =VLOOKUP(N8,CCNL_Mapping!A:C,3,0) -> Legal Director / Head of Regulatory Affairs & Audit | I8: Legal, Compliance & Audit | J8: 2 | K8: 3 | L8: 2 | M8: 0 | N8: 9 - Legal, Compliance & Audit | O8: Italy - 9 | P8: 63.382591 | Q8: 72.437247 | R8: 119280 | S8: 0 | T8: 17892 | U8: 5964 | V8: 5964 | W8: 125244 | X8: 143136
A9: 6516 | B9: Male | C9: Italy | D9: Italy-Ent 1 | E9: other | F9: 10 | G9: Dirigente | H9: =VLOOKUP(N9,CCNL_Mapping!A:C,3,0) -> Chief Legal Officer / General Counsel / Head of Compliance & Audit | I9: Legal, Compliance & Audit | J9: 3 | K9: 4 | L9: 4 | M9: 10 | N9: 10 - Legal, Compliance & Audit | O9: Italy - 10 | P9: 64.073887 | Q9: 72.070344 | R9: 118676 | S9: 2000 | T9: 17801 | U9: 5934 | V9: 5934 | W9: 126610 | X9: 142411
A10: 8114 | B10: Male | C10: Italy | D10: Italy-Ent 1 | E10: Masters | F10: 9 | G10: Quadro (Q) | H10: =VLOOKUP(N10,CCNL_Mapping!A:C,3,0) -> Legal Director / Head of Regulatory Affairs & Audit | I10: Legal, Compliance & Audit | J10: 3 | K10: 4 | L10: 3 | M10: 0 | N10: 9 - Legal, Compliance & Audit | O10: Italy - 9 | P10: 62.867409 | Q10: 70.691802 | R10: 116406 | S10: 2000 | T10: 17461 | U10: 5820 | V10: 5820 | W10: 124226 | X10: 139687
A11: 2280 | B11: Female | C11: Italy | D11: Italy-Ent 1 | E11: Junior College | F11: 8 | G11: Livello 1° | H11: =VLOOKUP(N11,CCNL_Mapping!A:C,3,0) -> Senior IT Manager / Principal Architect | I11: IT & Support | J11: 3 | K11: 4 | L11: 4 | M11: 10 | N11: 8 - IT & Support | O11: Italy - 8 | P11: 64.528846 | Q11: 72.526175 | R11: 113141 | S11: 2000 | T11: 16971 | U11: 5657 | V11: 5657 | W11: 120798 | X11: 135769
A12: 474 | B12: Male | C12: Italy | D12: Italy-Ent 1 | E12: skilled | F12: 7 | G12: Livello 2° | H12: =VLOOKUP(N12,CCNL_Mapping!A:C,3,0) -> Operations Manager / Project Management Lead | I12: Management | J12: 2 | K12: 1 | L12: 4 | M12: 0 | N12: 7 - Management | O12: Italy - 7 | P12: 59.236336 | Q12: 67.698887 | R12: 111477 | S12: 0 | T12: 16722 | U12: 5574 | V12: 5574 | W12: 117051 | X12: 133773
A13: 3848 | B13: Male | C13: Italy | D13: Italy-Ent 1 | E13: Junior College | F13: 9 | G13: Quadro (Q) | H13: =VLOOKUP(N13,CCNL_Mapping!A:C,3,0) -> Head of Finance / Head of HR | I13: Finance & HR | J13: 3 | K13: 3 | L13: 3 | M13: 0 | N13: 9 - Finance & HR | O13: Italy - 9 | P13: 59.043522 | Q13: 54.824899 | R13: 90278 | S13: 21878 | T13: 13542 | U13: 4514 | V13: 4514 | W13: 116670 | X13: 108334
... A287: 4223 | B287: Male | C287: Italy | D287: Italy-Ent 1 | E287: primary | F287: 3 | G287: Livello 4° | H287: =VLOOKUP(N287,CCNL_Mapping!A:C,3,0) -> Finance Specialist / HR Operations Clerk | I287: Finance & HR | J287: 2 | K287: 1 | L287: 3 | M287: 0 | N287: 3 - Finance & HR | O287: Italy - 3 | P287: 19.756073 | Q287: 22.578441 | R287: 37179 | S287: 0 | T287: 5577 | U287: 1859 | V287: 1859 | W287: 39038 | X287: 44615

Sheet CCNL_Mapping
A1: Grade & Job Family (Lookup Key) | B1: Indicative CCNL Classification | C1: Profile Description & Role Examples
A2: 10 - Sales | B2: Dirigente / Quadro (Q) | C2: Chief Commercial Officer / VP Sales
A3: 9 - Sales | B3: Quadro (Q) | C3: Head of Sales / National Sales Director
A4: 8 - Sales | B4: Livello 1° | C4: Senior Key Account Manager / Sales Director
A5: 7 - Sales | B5: Livello 1° | C5: Area Sales Manager / Account Team Lead
A6: 6 - Sales | B6: Livello 2° | C6: Senior Sales Account Executive
A7: 5 - Sales | B7: Livello 3° | C7: Experienced Sales Account Executive
A8: 4 - Sales | B8: Livello 3° | C8: Qualified Sales Representative / Store Specialist
A9: 3 - Sales | B9: Livello 4° | C9: Sales Associate / Retail Representative
A10: 2 - Sales | B10: Livello 4° | C10: Junior Store Representative / Retail Cashier
A11: 1 - Sales | B11: Livello 5° | C11: Entry-Level Sales Support / Trainee
A12: 10 - Finance & HR | B12: Dirigente | C12: Chief Financial Officer / HR Director
... A61: 1 - Legal, Compliance | B61: Livello 5° | C61: Legal Documentation / Archival Clerk
